BEGIN:VCALENDAR
VERSION:2.0
PRODID:-//Tukios.com/
BEGIN:VEVENT
UID:de219b8b-f740-4248-9d33-97a4dfe385af@www.bushriverfuneralhome.com
DTSTAMP:20260423T192529Z
DTSTART:20260427T150000Z
DTEND:20260427T160000Z
SUMMARY:Funeral Service
DESCRIPTION:
URL:https://www.bushriverfuneralhome.com/obituaries/john-peer
LOCATION:Bush River Funeral Home 5400 Bush River Rd  Columbia SC 29212
GEO:34.0571285;-81.1750943
END:VEVENT
END:VCALENDAR