BEGIN:VCALENDAR
VERSION:2.0
PRODID:-//Tukios.com/
BEGIN:VEVENT
UID:ce44c1ca-8a41-45d5-923e-44208e9cde23@www.bushriverfuneralhome.com
DTSTAMP:20260423T193554Z
DTSTART:20260427T140000Z
DTEND:20260427T150000Z
SUMMARY:Visitation
DESCRIPTION:
URL:https://www.bushriverfuneralhome.com/obituaries/john-peer
LOCATION:Bush River Funeral Home 5400 Bush River Rd  Columbia SC 29212
GEO:34.0571285;-81.1750943
END:VEVENT
END:VCALENDAR