BEGIN:VCALENDAR
VERSION:2.0
PRODID:-//Tukios.com/
BEGIN:VEVENT
UID:d3905cf7-1908-4e5e-8d7b-3850c55f5d95@www.bushriverfuneralhome.com
DTSTAMP:20260425T021500Z
DTSTART:20260427T210000Z
DTEND:20260427T230000Z
SUMMARY:Visitation
DESCRIPTION:
URL:https://www.bushriverfuneralhome.com/obituaries/willam-barton
LOCATION:Bush River Funeral Home 5400 Bush River Rd  Columbia SC 29212
GEO:34.0571285;-81.1750943
END:VEVENT
END:VCALENDAR